BEGIN:VCALENDAR
VERSION:2.0
PRODID:Spatie calendar-links
BEGIN:VEVENT
UID:550f5e096120a8486f8ae882d22ffffe
SUMMARY:Montel Analytics’ Market Updates
DTSTAMP:20250423T000000Z
DTSTART:20250423T000000Z
DTEND:20250423T235959Z
END:VEVENT
END:VCALENDAR