BEGIN:VCALENDAR
VERSION:2.0
PRODID:Spatie calendar-links
BEGIN:VEVENT
UID:cdd929f727557f33df0ebd163a06d2cc
SUMMARY:REC Market Meeting 2022
DTSTAMP:20220405T000000Z
DTSTART:20220405T000000Z
DTEND:20220406T235959Z
END:VEVENT
END:VCALENDAR