BEGIN:VCALENDAR
VERSION:2.0
PRODID:Spatie calendar-links
BEGIN:VEVENT
UID:c611e826ec503d8010f782dc92dfa10f
SUMMARY:REC Market Meeting 2021
DTSTAMP:20211130T000000Z
DTSTART:20211130T000000Z
DTEND:20211201T235959Z
END:VEVENT
END:VCALENDAR