BEGIN:VCALENDAR
VERSION:2.0
PRODID:Spatie calendar-links
BEGIN:VEVENT
UID:1610f778ec90a0c68479c02c0551d53b
SUMMARY:2nd Virtual Power Plant
DTSTAMP:20211104T000000Z
DTSTART:20211104T000000Z
DTEND:20211105T235959Z
END:VEVENT
END:VCALENDAR