BEGIN:VCALENDAR
VERSION:2.0
PRODID:Spatie calendar-links
BEGIN:VEVENT
UID:03a127b908f9d406c1065a53f4bea44a
SUMMARY:LNGgc conference
DTSTAMP:20211012T000000Z
DTSTART:20211012T000000Z
DTEND:20211014T235959Z
END:VEVENT
END:VCALENDAR